BEGIN:VCALENDAR
VERSION:2.0
PRODID:-//Pier 2 Roller Rink at Brooklyn Bridge Park - ECPv6.15.20//NONSGML v1.0//EN
CALSCALE:GREGORIAN
METHOD:PUBLISH
X-ORIGINAL-URL:https://www.brooklynbridgeskating.com
X-WR-CALDESC:Events for Pier 2 Roller Rink at Brooklyn Bridge Park
REFRESH-INTERVAL;VALUE=DURATION:PT1H
X-Robots-Tag:noindex
X-PUBLISHED-TTL:PT1H
BEGIN:VTIMEZONE
TZID:America/Phoenix
BEGIN:STANDARD
TZOFFSETFROM:-0700
TZOFFSETTO:-0700
TZNAME:MST
DTSTART:20220101T000000
END:STANDARD
END:VTIMEZONE
BEGIN:VEVENT
DTSTART;VALUE=DATE:20230406
DTEND;VALUE=DATE:20230418
DTSTAMP:20260422T074318
CREATED:20230322T173154Z
LAST-MODIFIED:20230408T182951Z
UID:2088-1680757200-1681707599@www.brooklynbridgeskating.com
SUMMARY:Spring Break Skating 4/6-4/16
DESCRIPTION:Spring Break Roller Skating is Thursday April 6th 2023 through Sunday\, April 16th 2023. \nWe are OPEN EVERYDAY for Adults\, Kids\, Families & Friends to come skate with us. See our SPECIAL Days and Times list below.\nPlus check our our Special Events that make Roller Skating with us an experience worthy of Instagram. We are featuring events with Public Skates\, Easter Skates\, Free Skates and so much more… \nCLICK HERE for Special Spring Break Schedule
URL:https://www.brooklynbridgeskating.com/event/spring-break-skating-4-6-4-16/
LOCATION:Brooklyn Bridge Park – Pier 2\, 150 Furman St\, Pier 2\, Brooklyn\, NY\, 11201\, United States
CATEGORIES:Adult Skates,Family Events,Public Skates,Special Events
ATTACH;FMTTYPE=image/jpeg:https://www.brooklynbridgeskating.com/wp-content/uploads/2023/03/spring-break-schedule-2023-60-web-only.jpg
END:VEVENT
BEGIN:VEVENT
DTSTART;TZID=America/Phoenix:20230410T150000
DTEND;TZID=America/Phoenix:20230410T180000
DTSTAMP:20260422T074318
CREATED:20230303T214640Z
LAST-MODIFIED:20230303T214640Z
UID:1960-1681138800-1681149600@www.brooklynbridgeskating.com
SUMMARY:Free Admission Monday
DESCRIPTION:FREE admission per person\, $8 skate rental per person \nCome roller skate outside on the beautiful Pier 2 in Brooklyn. Overlooking The Brooklyn Bridge and the BEST views of NYC. \nBirthday Parties are available – experience the best parties everyone will be talking about!
URL:https://www.brooklynbridgeskating.com/event/free-admission-monday/2023-04-10/
LOCATION:Brooklyn Bridge Park – Pier 2\, 150 Furman St\, Pier 2\, Brooklyn\, NY\, 11201\, United States
CATEGORIES:Family Events,Public Skates
ATTACH;FMTTYPE=image/jpeg:https://www.brooklynbridgeskating.com/wp-content/uploads/2022/07/Free-Monday-Skate-60-1200x900-1.jpg
END:VEVENT
BEGIN:VEVENT
DTSTART;TZID=America/Phoenix:20230410T183000
DTEND;TZID=America/Phoenix:20230410T203000
DTSTAMP:20260422T074318
CREATED:20230303T220112Z
LAST-MODIFIED:20230303T220112Z
UID:2010-1681151400-1681158600@www.brooklynbridgeskating.com
SUMMARY:Public Skate
DESCRIPTION:$7 admission per person\, $8 skate rental per person \nCome roller skate outside on the beautiful Pier 2 in Brooklyn. Overlooking The Brooklyn Bridge and the BEST views of NYC. \nBirthday Parties are available – experience the best parties everyone will be talking about!
URL:https://www.brooklynbridgeskating.com/event/public-skate-5/
LOCATION:Brooklyn Bridge Park – Pier 2\, 150 Furman St\, Pier 2\, Brooklyn\, NY\, 11201\, United States
CATEGORIES:Family Events,Public Skates
ATTACH;FMTTYPE=image/jpeg:https://www.brooklynbridgeskating.com/wp-content/uploads/2022/07/Public-Skate-1200x900-1.jpg
END:VEVENT
END:VCALENDAR