BEGIN:VCALENDAR
VERSION:2.0
PRODID:-//Pier 2 Roller Rink at Brooklyn Bridge Park - ECPv6.15.20//NONSGML v1.0//EN
CALSCALE:GREGORIAN
METHOD:PUBLISH
X-WR-CALNAME:Pier 2 Roller Rink at Brooklyn Bridge Park
X-ORIGINAL-URL:https://www.brooklynbridgeskating.com
X-WR-CALDESC:Events for Pier 2 Roller Rink at Brooklyn Bridge Park
REFRESH-INTERVAL;VALUE=DURATION:PT1H
X-Robots-Tag:noindex
X-PUBLISHED-TTL:PT1H
BEGIN:VTIMEZONE
TZID:America/Phoenix
BEGIN:STANDARD
TZOFFSETFROM:-0700
TZOFFSETTO:-0700
TZNAME:MST
DTSTART:20220101T000000
END:STANDARD
END:VTIMEZONE
BEGIN:VEVENT
DTSTART;TZID=America/Phoenix:20230421T100000
DTEND;TZID=America/Phoenix:20230421T150000
DTSTAMP:20260421T163430
CREATED:20230419T140754Z
LAST-MODIFIED:20230419T140754Z
UID:2240-1682071200-1682089200@www.brooklynbridgeskating.com
SUMMARY:Public Skate
DESCRIPTION:SCHOOL’S OUT- LET’S SKATE! \n$7 Admission per person\, $8 skate rental per person \nCome roller skate outside on the beautiful Pier 2 in Brooklyn. Overlooking The Brooklyn Bridge and the BEST views of NYC. \nBirthday Parties are available – experience the best parties everyone will be talking about!
URL:https://www.brooklynbridgeskating.com/event/public-skate-6/
LOCATION:Brooklyn Bridge Park – Pier 2\, 150 Furman St\, Pier 2\, Brooklyn\, NY\, 11201\, United States
CATEGORIES:Family Events,Public Skates,Special Events
ATTACH;FMTTYPE=image/jpeg:https://www.brooklynbridgeskating.com/wp-content/uploads/2023/03/SIO-SKATE-2022-1200x900-v2.jpg
END:VEVENT
BEGIN:VEVENT
DTSTART;TZID=America/Phoenix:20230421T153000
DTEND;TZID=America/Phoenix:20230421T180000
DTSTAMP:20260421T163430
CREATED:20230303T214349Z
LAST-MODIFIED:20230630T181151Z
UID:1919-1682091000-1682100000@www.brooklynbridgeskating.com
SUMMARY:Free Admission Friday Skate
DESCRIPTION:FREE admission per person\, $8 skate rental per person \nCome roller skate outside on the beautiful Pier 2 in Brooklyn. Overlooking The Brooklyn Bridge and the BEST views of NYC. \nBirthday Parties are available – experience the best parties everyone will be talking about!
URL:https://www.brooklynbridgeskating.com/event/free-admission-friday-skate-2/2023-04-21/
LOCATION:Brooklyn Bridge Park – Pier 2\, 150 Furman St\, Pier 2\, Brooklyn\, NY\, 11201\, United States
CATEGORIES:Family Events,Public Skates
ATTACH;FMTTYPE=image/jpeg:https://www.brooklynbridgeskating.com/wp-content/uploads/2022/07/Free-Friday-Skate-60-1200x900-1.jpg
END:VEVENT
BEGIN:VEVENT
DTSTART;TZID=America/Phoenix:20230421T190000
DTEND;TZID=America/Phoenix:20230421T220000
DTSTAMP:20260421T163430
CREATED:20230303T214003Z
LAST-MODIFIED:20230917T014122Z
UID:1893-1682103600-1682114400@www.brooklynbridgeskating.com
SUMMARY:Friday Night Theme Skate
DESCRIPTION:Enjoy the hits all night long provided by our LIVE DJ! \n$11 admission per person\, $8 skate rental per person \nCome roller skate outside on the beautiful Pier 2 in Brooklyn. Overlooking The Brooklyn Bridge and the BEST views of NYC. \nBirthday Parties are available – experience the best parties everyone will be talking about!
URL:https://www.brooklynbridgeskating.com/event/friday-night-theme-skate/2023-04-21/
LOCATION:Brooklyn Bridge Park – Pier 2\, 150 Furman St\, Pier 2\, Brooklyn\, NY\, 11201\, United States
CATEGORIES:Family Events,Public Skates
ATTACH;FMTTYPE=image/jpeg:https://www.brooklynbridgeskating.com/wp-content/uploads/2022/07/Theme-Friday-Skate-60-1200x900-v2.jpg
END:VEVENT
BEGIN:VEVENT
DTSTART;TZID=America/Phoenix:20230421T190000
DTEND;TZID=America/Phoenix:20230421T223000
DTSTAMP:20260421T163430
CREATED:20230402T172524Z
LAST-MODIFIED:20230402T172712Z
UID:2137-1682103600-1682116200@www.brooklynbridgeskating.com
SUMMARY:Prince Tribute Skate
DESCRIPTION:Prince Tribute Skate!\nJoin us  from 7-10:30pm to celebrate the life and music of Prince! Our LIVE DJ will be playing top hits from Prince all night long! Wear purple to show your love for Prince!\nAdmission- $11.00\nSkate Mate Rental- $8.00 (if needed)\nSate Mate Rental- $7.00 (if needed)\n*Please be advised this event is open to all ages\n*No outside food/drinks are permitted\n*We are a FULLY outdoor facility- this event is weather permitting\n*This event is first come\, first serve
URL:https://www.brooklynbridgeskating.com/event/prince-tribute-skate/
LOCATION:Brooklyn Bridge Park – Pier 2\, 150 Furman St\, Pier 2\, Brooklyn\, NY\, 11201\, United States
CATEGORIES:Family Events,Public Skates,Special Events
ATTACH;FMTTYPE=image/png:https://www.brooklynbridgeskating.com/wp-content/uploads/2023/04/Prince-Tribute.png
END:VEVENT
END:VCALENDAR