BEGIN:VCALENDAR
VERSION:2.0
PRODID:-//Pier 2 Roller Rink at Brooklyn Bridge Park - ECPv6.15.20//NONSGML v1.0//EN
CALSCALE:GREGORIAN
METHOD:PUBLISH
X-WR-CALNAME:Pier 2 Roller Rink at Brooklyn Bridge Park
X-ORIGINAL-URL:https://www.brooklynbridgeskating.com
X-WR-CALDESC:Events for Pier 2 Roller Rink at Brooklyn Bridge Park
REFRESH-INTERVAL;VALUE=DURATION:PT1H
X-Robots-Tag:noindex
X-PUBLISHED-TTL:PT1H
BEGIN:VTIMEZONE
TZID:America/Phoenix
BEGIN:STANDARD
TZOFFSETFROM:-0700
TZOFFSETTO:-0700
TZNAME:MST
DTSTART:20220101T000000
END:STANDARD
END:VTIMEZONE
BEGIN:VEVENT
DTSTART;TZID=America/Phoenix:20230529T100000
DTEND;TZID=America/Phoenix:20230529T150000
DTSTAMP:20260419T102624
CREATED:20230524T142821Z
LAST-MODIFIED:20230524T142821Z
UID:2582-1685354400-1685372400@www.brooklynbridgeskating.com
SUMMARY:Memorial Day Skate
DESCRIPTION:$7 Admission per person\, $8 skate rental per person \nCome roller skate outside on the beautiful Pier 2 in Brooklyn. Overlooking The Brooklyn Bridge and the BEST views of NYC. \nBirthday Parties are available – experience the best parties everyone will be talking about!
URL:https://www.brooklynbridgeskating.com/event/memorial-day-skate/
LOCATION:Brooklyn Bridge Park – Pier 2\, 150 Furman St\, Pier 2\, Brooklyn\, NY\, 11201\, United States
CATEGORIES:Family Events,Public Skates,Special Events
ATTACH;FMTTYPE=image/jpeg:https://www.brooklynbridgeskating.com/wp-content/uploads/2023/05/800px-Memorial_Day_1200x900.jpg
END:VEVENT
END:VCALENDAR