BEGIN:VCALENDAR
VERSION:2.0
PRODID:-//Pier 2 Roller Rink at Brooklyn Bridge Park - ECPv6.15.20//NONSGML v1.0//EN
CALSCALE:GREGORIAN
METHOD:PUBLISH
X-WR-CALNAME:Pier 2 Roller Rink at Brooklyn Bridge Park
X-ORIGINAL-URL:https://www.brooklynbridgeskating.com
X-WR-CALDESC:Events for Pier 2 Roller Rink at Brooklyn Bridge Park
REFRESH-INTERVAL;VALUE=DURATION:PT1H
X-Robots-Tag:noindex
X-PUBLISHED-TTL:PT1H
BEGIN:VTIMEZONE
TZID:America/Phoenix
BEGIN:STANDARD
TZOFFSETFROM:-0700
TZOFFSETTO:-0700
TZNAME:MST
DTSTART:20220101T000000
END:STANDARD
END:VTIMEZONE
BEGIN:VEVENT
DTSTART;TZID=America/Phoenix:20230630T150000
DTEND;TZID=America/Phoenix:20230630T223000
DTSTAMP:20260419T090547
CREATED:20230630T182027Z
LAST-MODIFIED:20230630T182045Z
UID:2853-1688137200-1688164200@www.brooklynbridgeskating.com
SUMMARY:CLOSED DUE TO AIR QUALITY
DESCRIPTION:For the safety of our guests and staff\, we will be closing for the day at 3pm. Please be advised we will not be open for the evening sessions.\n\n\nWe look forward to skating with everyone tomorrow!\nStay Safe!
URL:https://www.brooklynbridgeskating.com/event/closed-due-to-air-quality/
LOCATION:Brooklyn Bridge Park – Pier 2\, 150 Furman St\, Pier 2\, Brooklyn\, NY\, 11201\, United States
END:VEVENT
END:VCALENDAR