BEGIN:VCALENDAR
VERSION:2.0
PRODID:-//Pier 2 Roller Rink at Brooklyn Bridge Park - ECPv6.15.20//NONSGML v1.0//EN
CALSCALE:GREGORIAN
METHOD:PUBLISH
X-WR-CALNAME:Pier 2 Roller Rink at Brooklyn Bridge Park
X-ORIGINAL-URL:https://www.brooklynbridgeskating.com
X-WR-CALDESC:Events for Pier 2 Roller Rink at Brooklyn Bridge Park
REFRESH-INTERVAL;VALUE=DURATION:PT1H
X-Robots-Tag:noindex
X-PUBLISHED-TTL:PT1H
BEGIN:VTIMEZONE
TZID:America/Phoenix
BEGIN:STANDARD
TZOFFSETFROM:-0700
TZOFFSETTO:-0700
TZNAME:MST
DTSTART:20220101T000000
END:STANDARD
END:VTIMEZONE
BEGIN:VEVENT
DTSTART;TZID=America/Phoenix:20230701T120000
DTEND;TZID=America/Phoenix:20230701T160000
DTSTAMP:20260419T102624
CREATED:20230628T181501Z
LAST-MODIFIED:20230628T181501Z
UID:2805-1688212800-1688227200@www.brooklynbridgeskating.com
SUMMARY:Pikachu Skate
DESCRIPTION:It’s a Pikachu Party! \nMeet & Greets with Pikachu from 12-4pm! Come skating with family & friends and meet your favorite character! \nAdmission- $11 \nSkate Rental- $8
URL:https://www.brooklynbridgeskating.com/event/pikachu-skate/
LOCATION:Brooklyn Bridge Park – Pier 2\, 150 Furman St\, Pier 2\, Brooklyn\, NY\, 11201\, United States
CATEGORIES:Family Events,Public Skates,Special Events
ATTACH;FMTTYPE=image/jpeg:https://www.brooklynbridgeskating.com/wp-content/uploads/2023/06/Pikachu-Skate-2022-1200x1200-1.jpg
END:VEVENT
END:VCALENDAR