BEGIN:VCALENDAR
VERSION:2.0
PRODID:-//Pier 2 Roller Rink at Brooklyn Bridge Park - ECPv6.15.20//NONSGML v1.0//EN
CALSCALE:GREGORIAN
METHOD:PUBLISH
X-WR-CALNAME:Pier 2 Roller Rink at Brooklyn Bridge Park
X-ORIGINAL-URL:https://www.brooklynbridgeskating.com
X-WR-CALDESC:Events for Pier 2 Roller Rink at Brooklyn Bridge Park
REFRESH-INTERVAL;VALUE=DURATION:PT1H
X-Robots-Tag:noindex
X-PUBLISHED-TTL:PT1H
BEGIN:VTIMEZONE
TZID:America/Phoenix
BEGIN:STANDARD
TZOFFSETFROM:-0700
TZOFFSETTO:-0700
TZNAME:MST
DTSTART:20220101T000000
END:STANDARD
END:VTIMEZONE
BEGIN:VEVENT
DTSTART;TZID=America/Phoenix:20230704T100000
DTEND;TZID=America/Phoenix:20230704T170000
DTSTAMP:20260419T144851
CREATED:20230628T164927Z
LAST-MODIFIED:20230628T164927Z
UID:2802-1688464800-1688490000@www.brooklynbridgeskating.com
SUMMARY:4th of July Skating
DESCRIPTION:Happy 4th of July! \nCelebrate at the Skating Rink! Wear your red\, white & blue! \nCool off with a $1 Firecracker Bomb Ice Pop all Day! \n  \n*Please be advised that the Macys Fireworks will not be visible from Brooklyn Bridge Park
URL:https://www.brooklynbridgeskating.com/event/4th-of-july-skating/
LOCATION:Brooklyn Bridge Park – Pier 2\, 150 Furman St\, Pier 2\, Brooklyn\, NY\, 11201\, United States
CATEGORIES:Family Events,Public Skates,Special Events
ATTACH;FMTTYPE=image/png:https://www.brooklynbridgeskating.com/wp-content/uploads/2023/06/4th-of-July-Rink-60.png
END:VEVENT
END:VCALENDAR