BEGIN:VCALENDAR
VERSION:2.0
PRODID:-//Pier 2 Roller Rink at Brooklyn Bridge Park - ECPv6.15.20//NONSGML v1.0//EN
CALSCALE:GREGORIAN
METHOD:PUBLISH
X-WR-CALNAME:Pier 2 Roller Rink at Brooklyn Bridge Park
X-ORIGINAL-URL:https://www.brooklynbridgeskating.com
X-WR-CALDESC:Events for Pier 2 Roller Rink at Brooklyn Bridge Park
REFRESH-INTERVAL;VALUE=DURATION:PT1H
X-Robots-Tag:noindex
X-PUBLISHED-TTL:PT1H
BEGIN:VTIMEZONE
TZID:America/Phoenix
BEGIN:STANDARD
TZOFFSETFROM:-0700
TZOFFSETTO:-0700
TZNAME:MST
DTSTART:20220101T000000
END:STANDARD
END:VTIMEZONE
BEGIN:VEVENT
DTSTART;TZID=America/Phoenix:20230711T160000
DTEND;TZID=America/Phoenix:20230711T190000
DTSTAMP:20260419T200200
CREATED:20230628T183506Z
LAST-MODIFIED:20230628T183506Z
UID:2809-1689091200-1689102000@www.brooklynbridgeskating.com
SUMMARY:Minion Skate Party
DESCRIPTION:Join the Minion’s at Brooklyn Bridge Skating!\nMeet the Minions and enjoy an afternoon of skating with family & friends!\n\nAdmission – $11\nSkate Rental – $8 (if needed)
URL:https://www.brooklynbridgeskating.com/event/minion-skate-party/
LOCATION:Brooklyn Bridge Park – Pier 2\, 150 Furman St\, Pier 2\, Brooklyn\, NY\, 11201\, United States
CATEGORIES:Family Events,Public Skates,Special Events
ATTACH;FMTTYPE=image/jpeg:https://www.brooklynbridgeskating.com/wp-content/uploads/2023/06/Minions-Skate-1200x1200-v2.jpg
END:VEVENT
END:VCALENDAR