BEGIN:VCALENDAR
VERSION:2.0
PRODID:-//Pier 2 Roller Rink at Brooklyn Bridge Park - ECPv6.15.20//NONSGML v1.0//EN
CALSCALE:GREGORIAN
METHOD:PUBLISH
X-ORIGINAL-URL:https://www.brooklynbridgeskating.com
X-WR-CALDESC:Events for Pier 2 Roller Rink at Brooklyn Bridge Park
REFRESH-INTERVAL;VALUE=DURATION:PT1H
X-Robots-Tag:noindex
X-PUBLISHED-TTL:PT1H
BEGIN:VTIMEZONE
TZID:America/Phoenix
BEGIN:STANDARD
TZOFFSETFROM:-0700
TZOFFSETTO:-0700
TZNAME:MST
DTSTART:20220101T000000
END:STANDARD
END:VTIMEZONE
BEGIN:VEVENT
DTSTART;TZID=America/Phoenix:20230714T190000
DTEND;TZID=America/Phoenix:20230714T223000
DTSTAMP:20260419T231205
CREATED:20230706T225506Z
LAST-MODIFIED:20230707T211200Z
UID:2859-1689361200-1689373800@www.brooklynbridgeskating.com
SUMMARY:Pride Skate
DESCRIPTION:Pride doesn’t end in June — Let the celebration continue! Join us Friday\, July 14th from 7-10:30pm for a PRIDE Celebration!\n\nAdmission- $11.00\nSkate Mate Rental- $8.00 (if needed)\nSate Mate Rental- $7.00 (if needed)\n*Please be advised this event is open to all ages\n*No outside food/drinks are permitted\n*We are a FULLY outdoor facility- this event is weather permitting\n*This event is first come\, first serve
URL:https://www.brooklynbridgeskating.com/event/pride-skate/
LOCATION:Brooklyn Bridge Park – Pier 2\, 150 Furman St\, Pier 2\, Brooklyn\, NY\, 11201\, United States
CATEGORIES:Family Events,Public Skates,Special Events
ATTACH;FMTTYPE=image/jpeg:https://www.brooklynbridgeskating.com/wp-content/uploads/2023/07/LGBTQ-Skates-1200x1200-1.jpg
END:VEVENT
END:VCALENDAR