BEGIN:VCALENDAR
VERSION:2.0
PRODID:-//Pier 2 Roller Rink at Brooklyn Bridge Park - ECPv6.15.20//NONSGML v1.0//EN
CALSCALE:GREGORIAN
METHOD:PUBLISH
X-ORIGINAL-URL:https://www.brooklynbridgeskating.com
X-WR-CALDESC:Events for Pier 2 Roller Rink at Brooklyn Bridge Park
REFRESH-INTERVAL;VALUE=DURATION:PT1H
X-Robots-Tag:noindex
X-PUBLISHED-TTL:PT1H
BEGIN:VTIMEZONE
TZID:America/Phoenix
BEGIN:STANDARD
TZOFFSETFROM:-0700
TZOFFSETTO:-0700
TZNAME:MST
DTSTART:20220101T000000
END:STANDARD
END:VTIMEZONE
BEGIN:VEVENT
DTSTART;TZID=America/Phoenix:20230716T080000
DTEND;TZID=America/Phoenix:20230716T170000
DTSTAMP:20260420T020509
CREATED:20230716T131512Z
LAST-MODIFIED:20230716T131512Z
UID:2941-1689494400-1689526800@www.brooklynbridgeskating.com
SUMMARY:Temporarily Closed due to Inclement Weather
DESCRIPTION:Please be advised we are temporarily closed due to the inclement weather. We apologize for any inconvenience this may have caused. \n 
URL:https://www.brooklynbridgeskating.com/event/temporarily-closed-due-to-inclement-weather/
LOCATION:Brooklyn Bridge Park – Pier 2\, 150 Furman St\, Pier 2\, Brooklyn\, NY\, 11201\, United States
END:VEVENT
END:VCALENDAR