BEGIN:VCALENDAR
VERSION:2.0
PRODID:-//Pier 2 Roller Rink at Brooklyn Bridge Park - ECPv6.15.20//NONSGML v1.0//EN
CALSCALE:GREGORIAN
METHOD:PUBLISH
X-WR-CALNAME:Pier 2 Roller Rink at Brooklyn Bridge Park
X-ORIGINAL-URL:https://www.brooklynbridgeskating.com
X-WR-CALDESC:Events for Pier 2 Roller Rink at Brooklyn Bridge Park
REFRESH-INTERVAL;VALUE=DURATION:PT1H
X-Robots-Tag:noindex
X-PUBLISHED-TTL:PT1H
BEGIN:VTIMEZONE
TZID:America/Phoenix
BEGIN:STANDARD
TZOFFSETFROM:-0700
TZOFFSETTO:-0700
TZNAME:MST
DTSTART:20220101T000000
END:STANDARD
END:VTIMEZONE
BEGIN:VEVENT
DTSTART;TZID=America/Phoenix:20230718T160000
DTEND;TZID=America/Phoenix:20230718T190000
DTSTAMP:20260420T045616
CREATED:20230628T185010Z
LAST-MODIFIED:20230628T185010Z
UID:2812-1689696000-1689706800@www.brooklynbridgeskating.com
SUMMARY:Taylor Swift Skate
DESCRIPTION:Swifties! This one’s for you!! \nJoin us for a skate session filled with Taylor’s greatest hits! Dress in your favorite Tylor Eras costume! \nAdmission- $7.00 \nSkate Rental- $8.00 (if needed) \n 
URL:https://www.brooklynbridgeskating.com/event/taylor-swift-skate/
LOCATION:Brooklyn Bridge Park – Pier 2\, 150 Furman St\, Pier 2\, Brooklyn\, NY\, 11201\, United States
CATEGORIES:Family Events,Public Skates,Special Events
ATTACH;FMTTYPE=image/png:https://www.brooklynbridgeskating.com/wp-content/uploads/2023/06/Taylor-Swift-Rink-60.png
END:VEVENT
END:VCALENDAR