BEGIN:VCALENDAR
VERSION:2.0
PRODID:-//Pier 2 Roller Rink at Brooklyn Bridge Park - ECPv6.15.20//NONSGML v1.0//EN
CALSCALE:GREGORIAN
METHOD:PUBLISH
X-WR-CALNAME:Pier 2 Roller Rink at Brooklyn Bridge Park
X-ORIGINAL-URL:https://www.brooklynbridgeskating.com
X-WR-CALDESC:Events for Pier 2 Roller Rink at Brooklyn Bridge Park
REFRESH-INTERVAL;VALUE=DURATION:PT1H
X-Robots-Tag:noindex
X-PUBLISHED-TTL:PT1H
BEGIN:VTIMEZONE
TZID:America/Phoenix
BEGIN:STANDARD
TZOFFSETFROM:-0700
TZOFFSETTO:-0700
TZNAME:MST
DTSTART:20220101T000000
END:STANDARD
END:VTIMEZONE
BEGIN:VEVENT
DTSTART;TZID=America/Phoenix:20230730T120000
DTEND;TZID=America/Phoenix:20230730T150000
DTSTAMP:20260420T190935
CREATED:20230728T175816Z
LAST-MODIFIED:20230728T175900Z
UID:2945-1690718400-1690729200@www.brooklynbridgeskating.com
SUMMARY:Troll Skate12-3pm
DESCRIPTION:Meet the Trolls from 12-3pm \nAdmission is $11 \nSkate Rental is $8
URL:https://www.brooklynbridgeskating.com/event/12-3pm/
LOCATION:Brooklyn Bridge Park – Pier 2\, 150 Furman St\, Pier 2\, Brooklyn\, NY\, 11201\, United States
ATTACH;FMTTYPE=image/jpeg:https://www.brooklynbridgeskating.com/wp-content/uploads/2023/07/125px-Trolls-Skate-1200x900-1.jpg
END:VEVENT
END:VCALENDAR