BEGIN:VCALENDAR
VERSION:2.0
PRODID:-//Pier 2 Roller Rink at Brooklyn Bridge Park - ECPv6.15.20//NONSGML v1.0//EN
CALSCALE:GREGORIAN
METHOD:PUBLISH
X-WR-CALNAME:Pier 2 Roller Rink at Brooklyn Bridge Park
X-ORIGINAL-URL:https://www.brooklynbridgeskating.com
X-WR-CALDESC:Events for Pier 2 Roller Rink at Brooklyn Bridge Park
REFRESH-INTERVAL;VALUE=DURATION:PT1H
X-Robots-Tag:noindex
X-PUBLISHED-TTL:PT1H
BEGIN:VTIMEZONE
TZID:America/Phoenix
BEGIN:STANDARD
TZOFFSETFROM:-0700
TZOFFSETTO:-0700
TZNAME:MST
DTSTART:20220101T000000
END:STANDARD
END:VTIMEZONE
BEGIN:VEVENT
DTSTART;TZID=America/Phoenix:20230806T120000
DTEND;TZID=America/Phoenix:20230806T150000
DTSTAMP:20260421T004220
CREATED:20230728T180451Z
LAST-MODIFIED:20230728T180451Z
UID:2949-1691323200-1691334000@www.brooklynbridgeskating.com
SUMMARY:Skate With The Minion
DESCRIPTION:the Minion will be visiting from 12-3pm today! \nAdmission is $11 skate Rental is $8
URL:https://www.brooklynbridgeskating.com/event/skate-with-the-minion/
LOCATION:Brooklyn Bridge Park – Pier 2\, 150 Furman St\, Pier 2\, Brooklyn\, NY\, 11201\, United States
CATEGORIES:Family Events,Public Skates,Special Events
ATTACH;FMTTYPE=image/jpeg:https://www.brooklynbridgeskating.com/wp-content/uploads/2023/06/Minions-Skate-1200x1200-v2.jpg
END:VEVENT
END:VCALENDAR