BEGIN:VCALENDAR
VERSION:2.0
PRODID:-//Pier 2 Roller Rink at Brooklyn Bridge Park - ECPv6.15.20//NONSGML v1.0//EN
CALSCALE:GREGORIAN
METHOD:PUBLISH
X-ORIGINAL-URL:https://www.brooklynbridgeskating.com
X-WR-CALDESC:Events for Pier 2 Roller Rink at Brooklyn Bridge Park
REFRESH-INTERVAL;VALUE=DURATION:PT1H
X-Robots-Tag:noindex
X-PUBLISHED-TTL:PT1H
BEGIN:VTIMEZONE
TZID:America/Phoenix
BEGIN:STANDARD
TZOFFSETFROM:-0700
TZOFFSETTO:-0700
TZNAME:MST
DTSTART:20220101T000000
END:STANDARD
END:VTIMEZONE
BEGIN:VEVENT
DTSTART;TZID=America/Phoenix:20230825T190000
DTEND;TZID=America/Phoenix:20230825T223000
DTSTAMP:20260420T174449
CREATED:20230706T235641Z
LAST-MODIFIED:20230706T235952Z
UID:2918-1692990000-1693002600@www.brooklynbridgeskating.com
SUMMARY:Michael Jackson Birthday Bash
DESCRIPTION:Michael Jackson Birthday Bash Tribute Skate!\nJoin us on Friday\, August 25th from 7:00-10:30pm to celebrate the life and music of the legendary King of Pop\, Michael Jackson\, at Brooklyn Bridge Skating! We will be skating to Michael Jackson Hits played by our LIVE DJ all night long!!\n\nAdmission- $11.00\nSkate Rental- $8.00 (if needed)\nSkate Mate Rental- $7.00 (if needed)\n*Please be advised we are a fully outdoor facility*\n*This event is open to all ages*
URL:https://www.brooklynbridgeskating.com/event/michael-jackson-birthday-bash/
LOCATION:Brooklyn Bridge Park – Pier 2\, 150 Furman St\, Pier 2\, Brooklyn\, NY\, 11201\, United States
CATEGORIES:Family Events,Public Skates,Special Events
ATTACH;FMTTYPE=image/jpeg:https://www.brooklynbridgeskating.com/wp-content/uploads/2023/07/MJ-Tribute-1200x1200-1.jpg
END:VEVENT
END:VCALENDAR