BEGIN:VCALENDAR
VERSION:2.0
PRODID:-//Pier 2 Roller Rink at Brooklyn Bridge Park - ECPv6.15.20//NONSGML v1.0//EN
CALSCALE:GREGORIAN
METHOD:PUBLISH
X-ORIGINAL-URL:https://www.brooklynbridgeskating.com
X-WR-CALDESC:Events for Pier 2 Roller Rink at Brooklyn Bridge Park
REFRESH-INTERVAL;VALUE=DURATION:PT1H
X-Robots-Tag:noindex
X-PUBLISHED-TTL:PT1H
BEGIN:VTIMEZONE
TZID:America/Phoenix
BEGIN:STANDARD
TZOFFSETFROM:-0700
TZOFFSETTO:-0700
TZNAME:MST
DTSTART:20220101T000000
END:STANDARD
END:VTIMEZONE
BEGIN:VEVENT
DTSTART;TZID=America/Phoenix:20230913T160000
DTEND;TZID=America/Phoenix:20230913T190000
DTSTAMP:20260419T144907
CREATED:20230831T160546Z
LAST-MODIFIED:20231006T154504Z
UID:3040-1694620800-1694631600@www.brooklynbridgeskating.com
SUMMARY:Public Skate
DESCRIPTION:Admission is $7 \nSkate Rental is $8
URL:https://www.brooklynbridgeskating.com/event/public-skate-8/2023-09-13/
LOCATION:Brooklyn Bridge Park – Pier 2\, 150 Furman St\, Pier 2\, Brooklyn\, NY\, 11201\, United States
CATEGORIES:Family Events,Public Skates
ATTACH;FMTTYPE=image/jpeg:https://www.brooklynbridgeskating.com/wp-content/uploads/2022/08/800px-Public-Skate-1200x900-v2.jpg
END:VEVENT
END:VCALENDAR