BEGIN:VCALENDAR
VERSION:2.0
PRODID:-//Pier 2 Roller Rink at Brooklyn Bridge Park - ECPv6.15.20//NONSGML v1.0//EN
CALSCALE:GREGORIAN
METHOD:PUBLISH
X-ORIGINAL-URL:https://www.brooklynbridgeskating.com
X-WR-CALDESC:Events for Pier 2 Roller Rink at Brooklyn Bridge Park
REFRESH-INTERVAL;VALUE=DURATION:PT1H
X-Robots-Tag:noindex
X-PUBLISHED-TTL:PT1H
BEGIN:VTIMEZONE
TZID:America/Phoenix
BEGIN:STANDARD
TZOFFSETFROM:-0700
TZOFFSETTO:-0700
TZNAME:MST
DTSTART:20220101T000000
END:STANDARD
END:VTIMEZONE
BEGIN:VEVENT
DTSTART;TZID=America/Phoenix:20230917T120000
DTEND;TZID=America/Phoenix:20230917T200000
DTSTAMP:20260419T090602
CREATED:20230823T192855Z
LAST-MODIFIED:20230918T001544Z
UID:3033-1694952000-1694980800@www.brooklynbridgeskating.com
SUMMARY:Public Skating
DESCRIPTION:Join us for public Skating today! \nAdmission is $11 \nSkate Rental is $8
URL:https://www.brooklynbridgeskating.com/event/public-skating-6/2023-09-17/
LOCATION:Brooklyn Bridge Park – Pier 2\, 150 Furman St\, Pier 2\, Brooklyn\, NY\, 11201\, United States
CATEGORIES:Family Events,Public Skates,Special Events
ATTACH;FMTTYPE=image/jpeg:https://www.brooklynbridgeskating.com/wp-content/uploads/2022/08/800px-Public-Skate-1200x900-v2.jpg
END:VEVENT
END:VCALENDAR