BEGIN:VCALENDAR
VERSION:2.0
PRODID:-//Pier 2 Roller Rink at Brooklyn Bridge Park - ECPv6.15.20//NONSGML v1.0//EN
CALSCALE:GREGORIAN
METHOD:PUBLISH
X-ORIGINAL-URL:https://www.brooklynbridgeskating.com
X-WR-CALDESC:Events for Pier 2 Roller Rink at Brooklyn Bridge Park
REFRESH-INTERVAL;VALUE=DURATION:PT1H
X-Robots-Tag:noindex
X-PUBLISHED-TTL:PT1H
BEGIN:VTIMEZONE
TZID:America/Phoenix
BEGIN:STANDARD
TZOFFSETFROM:-0700
TZOFFSETTO:-0700
TZNAME:MST
DTSTART:20220101T000000
END:STANDARD
END:VTIMEZONE
BEGIN:VEVENT
DTSTART;TZID=America/Phoenix:20231014T080000
DTEND;TZID=America/Phoenix:20231014T120000
DTSTAMP:20260419T212911
CREATED:20230303T220748Z
LAST-MODIFIED:20230930T135403Z
UID:2236-1697270400-1697284800@www.brooklynbridgeskating.com
SUMMARY:NO Hockey League Today Only
DESCRIPTION:Join our seasonal adult hockey league and play hockey at the iconic roller rink in Brooklyn! Overlook The Brooklyn Bridge and the BEST views of NYC all while playing your favorite sport! \nRegistration is required in advance. For additional information on registration please email our hockey director\, Dave\, at djt7725@verizon.net \nHockey League Fee is $275/season
URL:https://www.brooklynbridgeskating.com/event/hockey-league-registration-required-4-2023-10-14/
LOCATION:Brooklyn Bridge Park – Pier 2\, 150 Furman St\, Pier 2\, Brooklyn\, NY\, 11201\, United States
CATEGORIES:Adult Skates,Family Events,Public Skates
ATTACH;FMTTYPE=image/jpeg:https://www.brooklynbridgeskating.com/wp-content/uploads/2022/07/Roller-Hockey-2022-1200x900-1.jpg
END:VEVENT
BEGIN:VEVENT
DTSTART;TZID=America/Phoenix:20231014T120000
DTEND;TZID=America/Phoenix:20231014T200000
DTSTAMP:20260419T212911
CREATED:20230915T180348Z
LAST-MODIFIED:20231007T035400Z
UID:3069-1697284800-1697313600@www.brooklynbridgeskating.com
SUMMARY:Closed Today!
DESCRIPTION:Rink is Closed To The Public Today \n 
URL:https://www.brooklynbridgeskating.com/event/delayed-opening/
LOCATION:Brooklyn Bridge Park – Pier 2\, 150 Furman St\, Pier 2\, Brooklyn\, NY\, 11201\, United States
CATEGORIES:Family Events,Public Skates,Special Events
ATTACH;FMTTYPE=image/png:https://www.brooklynbridgeskating.com/wp-content/uploads/2022/06/BB-Favicon.png
END:VEVENT
END:VCALENDAR