BEGIN:VCALENDAR
VERSION:2.0
PRODID:-//Pier 2 Roller Rink at Brooklyn Bridge Park - ECPv6.15.20//NONSGML v1.0//EN
CALSCALE:GREGORIAN
METHOD:PUBLISH
X-WR-CALNAME:Pier 2 Roller Rink at Brooklyn Bridge Park
X-ORIGINAL-URL:https://www.brooklynbridgeskating.com
X-WR-CALDESC:Events for Pier 2 Roller Rink at Brooklyn Bridge Park
REFRESH-INTERVAL;VALUE=DURATION:PT1H
X-Robots-Tag:noindex
X-PUBLISHED-TTL:PT1H
BEGIN:VTIMEZONE
TZID:America/Phoenix
BEGIN:STANDARD
TZOFFSETFROM:-0700
TZOFFSETTO:-0700
TZNAME:MST
DTSTART:20220101T000000
END:STANDARD
END:VTIMEZONE
BEGIN:VEVENT
DTSTART;VALUE=DATE:20231030
DTEND;VALUE=DATE:20231101
DTSTAMP:20260420T120325
CREATED:20231020T225421Z
LAST-MODIFIED:20240222T170926Z
UID:3137-1698642000-1698728399@www.brooklynbridgeskating.com
SUMMARY:Closed For The Season See You in the Spring!
DESCRIPTION:
URL:https://www.brooklynbridgeskating.com/event/closed-for-the-season-see-you-in-the-spring/2023-10-30/
LOCATION:Brooklyn Bridge Park – Pier 2\, 150 Furman St\, Pier 2\, Brooklyn\, NY\, 11201\, United States
ATTACH;FMTTYPE=image/webp:https://www.brooklynbridgeskating.com/wp-content/uploads/2022/07/Brooklyn-Bridge-Skating54.webp
END:VEVENT
END:VCALENDAR