BEGIN:VCALENDAR
VERSION:2.0
PRODID:-//Pier 2 Roller Rink at Brooklyn Bridge Park - ECPv6.15.20//NONSGML v1.0//EN
CALSCALE:GREGORIAN
METHOD:PUBLISH
X-ORIGINAL-URL:https://www.brooklynbridgeskating.com
X-WR-CALDESC:Events for Pier 2 Roller Rink at Brooklyn Bridge Park
REFRESH-INTERVAL;VALUE=DURATION:PT1H
X-Robots-Tag:noindex
X-PUBLISHED-TTL:PT1H
BEGIN:VTIMEZONE
TZID:America/Phoenix
BEGIN:STANDARD
TZOFFSETFROM:-0700
TZOFFSETTO:-0700
TZNAME:MST
DTSTART:20230101T000000
END:STANDARD
END:VTIMEZONE
BEGIN:VEVENT
DTSTART;TZID=America/Phoenix:20240405T153000
DTEND;TZID=America/Phoenix:20240405T180000
DTSTAMP:20260420T221240
CREATED:20240222T174431Z
LAST-MODIFIED:20240918T193007Z
UID:3485-1712331000-1712340000@www.brooklynbridgeskating.com
SUMMARY:Free Admission Friday Skate
DESCRIPTION:FREE admission per person\, $8 skate rental per person \nCome roller skate outside on the beautiful Pier 2 in Brooklyn. Overlooking The Brooklyn Bridge and the BEST views of NYC. \nAdmission will only be accepted until 5:15pm to allow ample time to skate.
URL:https://www.brooklynbridgeskating.com/event/free-admission-friday-skate-3/2024-04-05/
LOCATION:Brooklyn Bridge Park – Pier 2\, 150 Furman St\, Pier 2\, Brooklyn\, NY\, 11201\, United States
CATEGORIES:Family Events,Public Skates
ATTACH;FMTTYPE=image/jpeg:https://www.brooklynbridgeskating.com/wp-content/uploads/2022/07/Free-Friday-Skate-60-1200x900-1.jpg
END:VEVENT
END:VCALENDAR