BEGIN:VCALENDAR
VERSION:2.0
PRODID:-//Pier 2 Roller Rink at Brooklyn Bridge Park - ECPv6.15.20//NONSGML v1.0//EN
CALSCALE:GREGORIAN
METHOD:PUBLISH
X-ORIGINAL-URL:https://www.brooklynbridgeskating.com
X-WR-CALDESC:Events for Pier 2 Roller Rink at Brooklyn Bridge Park
REFRESH-INTERVAL;VALUE=DURATION:PT1H
X-Robots-Tag:noindex
X-PUBLISHED-TTL:PT1H
BEGIN:VTIMEZONE
TZID:America/Phoenix
BEGIN:STANDARD
TZOFFSETFROM:-0700
TZOFFSETTO:-0700
TZNAME:MST
DTSTART:20230101T000000
END:STANDARD
END:VTIMEZONE
BEGIN:VEVENT
DTSTART;TZID=America/Phoenix:20240407T100000
DTEND;TZID=America/Phoenix:20240407T120000
DTSTAMP:20260421T013739
CREATED:20240222T174800Z
LAST-MODIFIED:20241010T202121Z
UID:3506-1712484000-1712491200@www.brooklynbridgeskating.com
SUMMARY:Free Admission Sunday Skate
DESCRIPTION:FREE admission per person\, $8 skate rental per person \nCome roller skate outside on the beautiful Pier 2 in Brooklyn. Overlooking The Brooklyn Bridge and the BEST views of NYC. \nAdmission will only be accepted until 11:15am to allow ample time to skate.
URL:https://www.brooklynbridgeskating.com/event/free-admission-sunday-skate-2/2024-04-07/
LOCATION:Brooklyn Bridge Park – Pier 2\, 150 Furman St\, Pier 2\, Brooklyn\, NY\, 11201\, United States
CATEGORIES:Family Events,Public Skates
ATTACH;FMTTYPE=image/jpeg:https://www.brooklynbridgeskating.com/wp-content/uploads/2022/07/Free-SUNDAY-Skate-60-1200x900-1.jpg
END:VEVENT
BEGIN:VEVENT
DTSTART;TZID=America/Phoenix:20240407T120000
DTEND;TZID=America/Phoenix:20240407T160000
DTSTAMP:20260421T013739
CREATED:20240329T173202Z
LAST-MODIFIED:20240329T173202Z
UID:3766-1712491200-1712505600@www.brooklynbridgeskating.com
SUMMARY:Skate with Mario
DESCRIPTION:Join us for an afternoon of Skating with Mario! \nAdmission- $12 \nSkate Rental- $8
URL:https://www.brooklynbridgeskating.com/event/skate-with-mario/
LOCATION:Brooklyn Bridge Park – Pier 2\, 150 Furman St\, Pier 2\, Brooklyn\, NY\, 11201\, United States
CATEGORIES:Family Events,Public Skates,Special Events
ATTACH;FMTTYPE=image/png:https://www.brooklynbridgeskating.com/wp-content/uploads/2024/03/Skate-with-Mario-April-7th.png
END:VEVENT
END:VCALENDAR