BEGIN:VCALENDAR
VERSION:2.0
PRODID:-//Pier 2 Roller Rink at Brooklyn Bridge Park - ECPv6.15.20//NONSGML v1.0//EN
CALSCALE:GREGORIAN
METHOD:PUBLISH
X-ORIGINAL-URL:https://www.brooklynbridgeskating.com
X-WR-CALDESC:Events for Pier 2 Roller Rink at Brooklyn Bridge Park
REFRESH-INTERVAL;VALUE=DURATION:PT1H
X-Robots-Tag:noindex
X-PUBLISHED-TTL:PT1H
BEGIN:VTIMEZONE
TZID:America/Phoenix
BEGIN:STANDARD
TZOFFSETFROM:-0700
TZOFFSETTO:-0700
TZNAME:MST
DTSTART:20230101T000000
END:STANDARD
END:VTIMEZONE
BEGIN:VEVENT
DTSTART;TZID=America/Phoenix:20240501T160000
DTEND;TZID=America/Phoenix:20240501T190000
DTSTAMP:20260422T051348
CREATED:20240405T155717Z
LAST-MODIFIED:20240626T133006Z
UID:3792-1714579200-1714590000@www.brooklynbridgeskating.com
SUMMARY:Public Skate
DESCRIPTION:$8 admission per person\, $8 skate rental per person \nCome roller skate outside on the beautiful Pier 2 in Brooklyn. Overlooking The Brooklyn Bridge and the BEST views of NYC. \nBirthday Parties are available – experience the best parties everyone will be talking about!
URL:https://www.brooklynbridgeskating.com/event/public-skate-11-2024-05-01/2024-05-01/
LOCATION:Brooklyn Bridge Park – Pier 2\, 150 Furman St\, Pier 2\, Brooklyn\, NY\, 11201\, United States
CATEGORIES:Family Events,Public Skates
ATTACH;FMTTYPE=image/jpeg:https://www.brooklynbridgeskating.com/wp-content/uploads/2022/07/Public-Skate-1200x900-1.jpg
END:VEVENT
BEGIN:VEVENT
DTSTART;TZID=America/Phoenix:20240501T193000
DTEND;TZID=America/Phoenix:20240501T230000
DTSTAMP:20260422T051348
CREATED:20240222T175856Z
LAST-MODIFIED:20240717T143152Z
UID:3583-1714591800-1714604400@www.brooklynbridgeskating.com
SUMMARY:Adult Hockey League- Registration Required
DESCRIPTION:Join our seasonal adult hockey league and play hockey at the iconic roller rink in Brooklyn! Overlook The Brooklyn Bridge and the BEST views of NYC all while playing your favorite sport! \nRegistration is required in advance. For additional information on registration please email our hockey director\, Dave\, at djt7725@verizon.net \nHockey League Fee is $200/season
URL:https://www.brooklynbridgeskating.com/event/adult-hockey-league-registration-required-2/2024-05-01/
LOCATION:Brooklyn Bridge Park – Pier 2\, 150 Furman St\, Pier 2\, Brooklyn\, NY\, 11201\, United States
CATEGORIES:Family Events,Public Skates
ATTACH;FMTTYPE=image/jpeg:https://www.brooklynbridgeskating.com/wp-content/uploads/2022/07/Roller-Hockey-2022-1200x900-1.jpg
END:VEVENT
END:VCALENDAR