BEGIN:VCALENDAR
VERSION:2.0
PRODID:-//Pier 2 Roller Rink at Brooklyn Bridge Park - ECPv6.15.20//NONSGML v1.0//EN
CALSCALE:GREGORIAN
METHOD:PUBLISH
X-WR-CALNAME:Pier 2 Roller Rink at Brooklyn Bridge Park
X-ORIGINAL-URL:https://www.brooklynbridgeskating.com
X-WR-CALDESC:Events for Pier 2 Roller Rink at Brooklyn Bridge Park
REFRESH-INTERVAL;VALUE=DURATION:PT1H
X-Robots-Tag:noindex
X-PUBLISHED-TTL:PT1H
BEGIN:VTIMEZONE
TZID:America/Phoenix
BEGIN:STANDARD
TZOFFSETFROM:-0700
TZOFFSETTO:-0700
TZNAME:MST
DTSTART:20210101T000000
END:STANDARD
END:VTIMEZONE
BEGIN:VEVENT
DTSTART;TZID=America/Phoenix:20260415T190000
DTEND;TZID=America/Phoenix:20260415T230000
DTSTAMP:20260419T062913
CREATED:20260316T153703Z
LAST-MODIFIED:20260316T153910Z
UID:6622-1776279600-1776294000@www.brooklynbridgeskating.com
SUMMARY:Adult Roller Hockey League
DESCRIPTION:Join our seasonal adult hockey league and play hockey at the iconic roller rink in Brooklyn! Overlook The Brooklyn Bridge and the BEST views of NYC all while playing your favorite sport! \nRegistration is required in advance. For additional information on registration please email our hockey director\, Dave\, at djt7725@verizon.net \nHockey League Fee is $200/season
URL:https://www.brooklynbridgeskating.com/event/adult-roller-hockey-league/2026-04-15/
LOCATION:Brooklyn Bridge Park – Pier 2\, 150 Furman St\, Pier 2\, Brooklyn\, NY\, 11201\, United States
CATEGORIES:Adult Skates
ATTACH;FMTTYPE=image/png:https://www.brooklynbridgeskating.com/wp-content/uploads/2026/03/Copilot_20260316_113835.png
END:VEVENT
BEGIN:VEVENT
DTSTART;TZID=America/Phoenix:20260415T160000
DTEND;TZID=America/Phoenix:20260415T190000
DTSTAMP:20260419T062913
CREATED:20260414T142925Z
LAST-MODIFIED:20260414T142925Z
UID:6958-1776268800-1776279600@www.brooklynbridgeskating.com
SUMMARY:Public Skate
DESCRIPTION:🛼✨  Public Skating at Pier 2! ✨🛼 \n🎟️ Admission: $8 \n🛼 Skate Rental: $8 \n📍 Pier 2 Roller Skating – Brooklyn Bridge Park
URL:https://www.brooklynbridgeskating.com/event/public-skate-43/2026-04-15/
LOCATION:Brooklyn Bridge Park – Pier 2\, 150 Furman St\, Pier 2\, Brooklyn\, NY\, 11201\, United States
CATEGORIES:Adult Skates,Family Events,Public Skates
ATTACH;FMTTYPE=image/jpeg:https://www.brooklynbridgeskating.com/wp-content/uploads/2025/08/800px-Public-Skate-1200x900-v2.jpg
END:VEVENT
BEGIN:VEVENT
DTSTART;TZID=America/Phoenix:20260405T130000
DTEND;TZID=America/Phoenix:20260405T200000
DTSTAMP:20260419T062913
CREATED:20260405T142534Z
LAST-MODIFIED:20260405T145233Z
UID:6885-1775394000-1775419200@www.brooklynbridgeskating.com
SUMMARY:Closed Due to weather
DESCRIPTION:Unfortunately\, Pier 2 roller skating will be closed today due to weather conditions. \nWe will be closed today 4/5 due to the inclement weather. Our Easter Extravaganza will take place next Sunday 4/12 from 2-8pm. Any ticket holders for today’s event have an option to come next week or get a refund. Sorry for the inconvenience. 
URL:https://www.brooklynbridgeskating.com/event/closed-due-to-weather-6/
LOCATION:Brooklyn Bridge Park – Pier 2\, 150 Furman St\, Pier 2\, Brooklyn\, NY\, 11201\, United States
CATEGORIES:Adult Skates,Family Events,Public Skates,Special Events
END:VEVENT
BEGIN:VEVENT
DTSTART;TZID=America/Phoenix:20260403T100000
DTEND;TZID=America/Phoenix:20260403T150000
DTSTAMP:20260419T062913
CREATED:20260402T223420Z
LAST-MODIFIED:20260402T223420Z
UID:6876-1775210400-1775228400@www.brooklynbridgeskating.com
SUMMARY:Public Skate
DESCRIPTION:🛼✨  Public Skating at Pier 2! ✨🛼 \n🎟️ Admission: $8 \n🛼 Skate Rental: $8 \n📍 Pier 2 Roller Skating – Brooklyn Bridge Park \nGrab your friends\, bring the family\, and roll into the weekend with us!
URL:https://www.brooklynbridgeskating.com/event/public-skate-42/
LOCATION:Brooklyn Bridge Park – Pier 2\, 150 Furman St\, Pier 2\, Brooklyn\, NY\, 11201\, United States
CATEGORIES:Adult Skates,Family Events,Public Skates
ATTACH;FMTTYPE=image/jpeg:https://www.brooklynbridgeskating.com/wp-content/uploads/2022/08/800px-Public-Skate-1200x900-v2.jpg
END:VEVENT
BEGIN:VEVENT
DTSTART;TZID=America/Phoenix:20260402T150000
DTEND;TZID=America/Phoenix:20260402T203000
DTSTAMP:20260419T062913
CREATED:20260331T205459Z
LAST-MODIFIED:20260331T205459Z
UID:6861-1775142000-1775161800@www.brooklynbridgeskating.com
SUMMARY:Public Skate
DESCRIPTION:🛼✨  Public Skating at Pier 2! ✨🛼 \n🎟️ Admission: $8 \n🛼 Skate Rental: $8 \n📍 Pier 2 Roller Skating – Brooklyn Bridge Park \nGrab your friends\, bring the family\, and roll into the weekend with us!
URL:https://www.brooklynbridgeskating.com/event/public-skate-41/
LOCATION:Brooklyn Bridge Park – Pier 2\, 150 Furman St\, Pier 2\, Brooklyn\, NY\, 11201\, United States
CATEGORIES:Adult Skates,Public Skates,Special Events
ATTACH;FMTTYPE=image/jpeg:https://www.brooklynbridgeskating.com/wp-content/uploads/2025/08/800px-Public-Skate-1200x900-v2.jpg
END:VEVENT
BEGIN:VEVENT
DTSTART;TZID=America/Phoenix:20260402T100000
DTEND;TZID=America/Phoenix:20260402T150000
DTSTAMP:20260419T062913
CREATED:20260331T205348Z
LAST-MODIFIED:20260331T205348Z
UID:6859-1775124000-1775142000@www.brooklynbridgeskating.com
SUMMARY:Public Skate
DESCRIPTION:🛼✨  Public Skating at Pier 2! ✨🛼 \n🎟️ Admission: $8 \n🛼 Skate Rental: $8 \n📍 Pier 2 Roller Skating – Brooklyn Bridge Park \nGrab your friends\, bring the family\, and roll into the weekend with us!
URL:https://www.brooklynbridgeskating.com/event/public-skate-40/
LOCATION:Brooklyn Bridge Park – Pier 2\, 150 Furman St\, Pier 2\, Brooklyn\, NY\, 11201\, United States
CATEGORIES:Adult Skates,Family Events,Public Skates
ATTACH;FMTTYPE=image/jpeg:https://www.brooklynbridgeskating.com/wp-content/uploads/2025/08/800px-Public-Skate-1200x900-v2.jpg
END:VEVENT
BEGIN:VEVENT
DTSTART;TZID=America/Phoenix:20260401T153000
DTEND;TZID=America/Phoenix:20260401T203000
DTSTAMP:20260419T062913
CREATED:20260331T205108Z
LAST-MODIFIED:20260331T205108Z
UID:6857-1775057400-1775075400@www.brooklynbridgeskating.com
SUMMARY:Public Skate
DESCRIPTION:🛼✨  Public Skating at Pier 2! ✨🛼 \n🎟️ Admission: $8 \n🛼 Skate Rental: $8 \n📍 Pier 2 Roller Skating – Brooklyn Bridge Park \nGrab your friends\, bring the family\, and roll into the weekend with us!
URL:https://www.brooklynbridgeskating.com/event/public-skate-39/
LOCATION:Brooklyn Bridge Park – Pier 2\, 150 Furman St\, Pier 2\, Brooklyn\, NY\, 11201\, United States
CATEGORIES:Adult Skates,Family Events,Public Skates
ATTACH;FMTTYPE=image/jpeg:https://www.brooklynbridgeskating.com/wp-content/uploads/2025/08/800px-Public-Skate-1200x900-v2.jpg
END:VEVENT
BEGIN:VEVENT
DTSTART;TZID=America/Phoenix:20251106T180000
DTEND;TZID=America/Phoenix:20251106T190000
DTSTAMP:20260419T062913
CREATED:20251105T164513Z
LAST-MODIFIED:20251105T172845Z
UID:6103-1762452000-1762455600@www.brooklynbridgeskating.com
SUMMARY:Skate Lessons by Skaterobics
DESCRIPTION:We are proud to announce that the Legendary\, Tanya Dean\, and her team will be hosting Children’s Skate Lessons and Skaterobics Skate Lessons for Adults at Brooklyn Bridge Skating! \nWe’re here to help skaters improve their skills so they can have even more fun on wheels! Learn tips and tricks from our professionals about maintaining your balance\, how to properly fall\, and ways to move your feet so you glide across the floor. And to keep you safe while you learn\, wrist guards are always free! \nChildren:$20 Admission includes Skate Rental and Wrist Guards \nRecommended for Children ages 7+ \nAdults:$20 Admission includes Skate Rental and Wrist Guards \nSkaterobics®️ delivers world-class\, high-energy\, and fun-filled roller skating experiences for people. Students learn the roller skating basic fundamentals for beginner beginners all the way to advanced-level skating. \n  \n*Tickets are purchased on site at our admissions windows.
URL:https://www.brooklynbridgeskating.com/event/skate-lessons-by-skaterobics-2/
LOCATION:Brooklyn Bridge Park – Pier 2\, 150 Furman St\, Pier 2\, Brooklyn\, NY\, 11201\, United States
CATEGORIES:Adult Skates,Family Events,Public Skates,Special Events
ATTACH;FMTTYPE=image/jpeg:https://www.brooklynbridgeskating.com/wp-content/uploads/2025/03/image0-20.jpeg
END:VEVENT
BEGIN:VEVENT
DTSTART;TZID=America/Phoenix:20240912T193000
DTEND;TZID=America/Phoenix:20240912T213000
DTSTAMP:20260419T062913
CREATED:20240916T151309Z
LAST-MODIFIED:20240916T151309Z
UID:4540-1726169400-1726176600@www.brooklynbridgeskating.com
SUMMARY:Adult Hockey League
DESCRIPTION:Join our seasonal adult hockey league and play hockey at the iconic roller rink in Brooklyn! Overlook The Brooklyn Bridge and the BEST views of NYC all while playing your favorite sport! \nRegistration is required in advance. For additional information on registration please email our hockey director\, Dave\, at djt7725@verizon.net \nHockey League Fee is $200/season
URL:https://www.brooklynbridgeskating.com/event/adult-hockey-league-2/2024-09-12/
LOCATION:Brooklyn Bridge Park – Pier 2\, 150 Furman St\, Pier 2\, Brooklyn\, NY\, 11201\, United States
CATEGORIES:Adult Skates
ATTACH;FMTTYPE=image/jpeg:https://www.brooklynbridgeskating.com/wp-content/uploads/2022/07/Roller-Hockey-2022-1200x900-1.jpg
END:VEVENT
BEGIN:VEVENT
DTSTART;TZID=America/Phoenix:20240910T193000
DTEND;TZID=America/Phoenix:20240910T213000
DTSTAMP:20260419T062913
CREATED:20240916T151202Z
LAST-MODIFIED:20240916T151326Z
UID:4531-1725996600-1726003800@www.brooklynbridgeskating.com
SUMMARY:Adult Hockey League
DESCRIPTION:Join our seasonal adult hockey league and play hockey at the iconic roller rink in Brooklyn! Overlook The Brooklyn Bridge and the BEST views of NYC all while playing your favorite sport! \nRegistration is required in advance. For additional information on registration please email our hockey director\, Dave\, at djt7725@verizon.net \nHockey League Fee is $200/season
URL:https://www.brooklynbridgeskating.com/event/adult-hockey-league/2024-09-10/
LOCATION:Brooklyn Bridge Park – Pier 2\, 150 Furman St\, Pier 2\, Brooklyn\, NY\, 11201\, United States
CATEGORIES:Adult Skates
ATTACH;FMTTYPE=image/jpeg:https://www.brooklynbridgeskating.com/wp-content/uploads/2022/07/Roller-Hockey-2022-1200x900-1.jpg
END:VEVENT
BEGIN:VEVENT
DTSTART;TZID=America/Phoenix:20231014T080000
DTEND;TZID=America/Phoenix:20231014T120000
DTSTAMP:20260419T062913
CREATED:20230303T220748Z
LAST-MODIFIED:20230930T135403Z
UID:2236-1697270400-1697284800@www.brooklynbridgeskating.com
SUMMARY:NO Hockey League Today Only
DESCRIPTION:Join our seasonal adult hockey league and play hockey at the iconic roller rink in Brooklyn! Overlook The Brooklyn Bridge and the BEST views of NYC all while playing your favorite sport! \nRegistration is required in advance. For additional information on registration please email our hockey director\, Dave\, at djt7725@verizon.net \nHockey League Fee is $275/season
URL:https://www.brooklynbridgeskating.com/event/hockey-league-registration-required-4-2023-10-14/
LOCATION:Brooklyn Bridge Park – Pier 2\, 150 Furman St\, Pier 2\, Brooklyn\, NY\, 11201\, United States
CATEGORIES:Adult Skates,Family Events,Public Skates
ATTACH;FMTTYPE=image/jpeg:https://www.brooklynbridgeskating.com/wp-content/uploads/2022/07/Roller-Hockey-2022-1200x900-1.jpg
END:VEVENT
BEGIN:VEVENT
DTSTART;TZID=America/Phoenix:20231012T180000
DTEND;TZID=America/Phoenix:20231012T190000
DTSTAMP:20260419T062913
CREATED:20230504T211820Z
LAST-MODIFIED:20231010T175150Z
UID:2429-1697133600-1697137200@www.brooklynbridgeskating.com
SUMMARY:Cancelled-Adult Skaterobics®️ Classes!
DESCRIPTION:We are proud to announce that the Legendary\, Tanya Dean\, and her team will be hosting Skaterobics for Adults at Brooklyn Bridge Skating! \nSkaterobics®️ delivers world-class\, high-energy\, and fun-filled roller skating experiences for people. Students learn the roller skating basic fundamentals for beginner beginners all the way to advanced-level skating. \n$20 Admission includes Skate Rental and Wrist Guards. \nTickets are purchased on site at our admissions windows.
URL:https://www.brooklynbridgeskating.com/event/adult-skaterobics%ef%b8%8f-classes-2023-10-12/
LOCATION:Brooklyn Bridge Park – Pier 2\, 150 Furman St\, Pier 2\, Brooklyn\, NY\, 11201\, United States
CATEGORIES:Adult Skates,Family Events,Public Skates,Special Events
ATTACH;FMTTYPE=image/png:https://www.brooklynbridgeskating.com/wp-content/uploads/2023/05/Screenshot-2023-05-04-145300.png
END:VEVENT
BEGIN:VEVENT
DTSTART;TZID=America/Phoenix:20231005T180000
DTEND;TZID=America/Phoenix:20231005T190000
DTSTAMP:20260419T062913
CREATED:20230504T211820Z
LAST-MODIFIED:20230930T135146Z
UID:2428-1696528800-1696532400@www.brooklynbridgeskating.com
SUMMARY:CANCELLED-Adult Skaterobics®️ Classes!
DESCRIPTION:We are proud to announce that the Legendary\, Tanya Dean\, and her team will be hosting Skaterobics for Adults at Brooklyn Bridge Skating! \nSkaterobics®️ delivers world-class\, high-energy\, and fun-filled roller skating experiences for people. Students learn the roller skating basic fundamentals for beginner beginners all the way to advanced-level skating. \n$20 Admission includes Skate Rental and Wrist Guards. \nTickets are purchased on site at our admissions windows.
URL:https://www.brooklynbridgeskating.com/event/adult-skaterobics%ef%b8%8f-classes-2023-10-05/
LOCATION:Brooklyn Bridge Park – Pier 2\, 150 Furman St\, Pier 2\, Brooklyn\, NY\, 11201\, United States
CATEGORIES:Adult Skates,Family Events,Public Skates,Special Events
ATTACH;FMTTYPE=image/png:https://www.brooklynbridgeskating.com/wp-content/uploads/2023/05/Screenshot-2023-05-04-145300.png
END:VEVENT
BEGIN:VEVENT
DTSTART;TZID=America/Phoenix:20230831T180000
DTEND;TZID=America/Phoenix:20230831T190000
DTSTAMP:20260419T062913
CREATED:20230504T211820Z
LAST-MODIFIED:20230831T160219Z
UID:2423-1693504800-1693508400@www.brooklynbridgeskating.com
SUMMARY:Cancelled-Adult Skaterobics®️ Classes!
DESCRIPTION:We are proud to announce that the Legendary\, Tanya Dean\, and her team will be hosting Skaterobics for Adults at Brooklyn Bridge Skating! \nSkaterobics®️ delivers world-class\, high-energy\, and fun-filled roller skating experiences for people. Students learn the roller skating basic fundamentals for beginner beginners all the way to advanced-level skating. \n$20 Admission includes Skate Rental and Wrist Guards. \nTickets are purchased on site at our admissions windows.
URL:https://www.brooklynbridgeskating.com/event/adult-skaterobics%ef%b8%8f-classes-2023-08-31/
LOCATION:Brooklyn Bridge Park – Pier 2\, 150 Furman St\, Pier 2\, Brooklyn\, NY\, 11201\, United States
CATEGORIES:Adult Skates,Family Events,Public Skates,Special Events
ATTACH;FMTTYPE=image/png:https://www.brooklynbridgeskating.com/wp-content/uploads/2023/05/Screenshot-2023-05-04-145300.png
END:VEVENT
BEGIN:VEVENT
DTSTART;TZID=America/Phoenix:20230810T180000
DTEND;TZID=America/Phoenix:20230810T190000
DTSTAMP:20260419T062913
CREATED:20230504T211820Z
LAST-MODIFIED:20230810T204511Z
UID:2420-1691690400-1691694000@www.brooklynbridgeskating.com
SUMMARY:Cancelled- Adult Skaterobics®️ Classes!
DESCRIPTION:We are proud to announce that the Legendary\, Tanya Dean\, and her team will be hosting Skaterobics for Adults at Brooklyn Bridge Skating! \nSkaterobics®️ delivers world-class\, high-energy\, and fun-filled roller skating experiences for people. Students learn the roller skating basic fundamentals for beginner beginners all the way to advanced-level skating. \n$20 Admission includes Skate Rental and Wrist Guards. \nTickets are purchased on site at our admissions windows.
URL:https://www.brooklynbridgeskating.com/event/adult-skaterobics%ef%b8%8f-classes-2023-08-10/
LOCATION:Brooklyn Bridge Park – Pier 2\, 150 Furman St\, Pier 2\, Brooklyn\, NY\, 11201\, United States
CATEGORIES:Adult Skates,Family Events,Public Skates,Special Events
ATTACH;FMTTYPE=image/png:https://www.brooklynbridgeskating.com/wp-content/uploads/2023/05/Screenshot-2023-05-04-145300.png
END:VEVENT
BEGIN:VEVENT
DTSTART;TZID=America/Phoenix:20230511T180000
DTEND;TZID=America/Phoenix:20230511T190000
DTSTAMP:20260419T062913
CREATED:20230504T211820Z
LAST-MODIFIED:20230706T233527Z
UID:2405-1683828000-1683831600@www.brooklynbridgeskating.com
SUMMARY:Adult Skaterobics®️ Classes!
DESCRIPTION:We are proud to announce that the Legendary\, Tanya Dean\, and her team will be hosting Skaterobics for Adults at Brooklyn Bridge Skating! \nSkaterobics®️ delivers world-class\, high-energy\, and fun-filled roller skating experiences for people. Students learn the roller skating basic fundamentals for beginner beginners all the way to advanced-level skating. \n$20 Admission includes Skate Rental and Wrist Guards. \nTickets are purchased on site at our admissions windows.
URL:https://www.brooklynbridgeskating.com/event/adult-skaterobics%ef%b8%8f-classes/2023-05-11/
LOCATION:Brooklyn Bridge Park – Pier 2\, 150 Furman St\, Pier 2\, Brooklyn\, NY\, 11201\, United States
CATEGORIES:Adult Skates,Family Events,Public Skates,Special Events
ATTACH;FMTTYPE=image/png:https://www.brooklynbridgeskating.com/wp-content/uploads/2023/05/Screenshot-2023-05-04-145300.png
END:VEVENT
BEGIN:VEVENT
DTSTART;TZID=America/Phoenix:20230422T080000
DTEND;TZID=America/Phoenix:20230422T120000
DTSTAMP:20260419T062913
CREATED:20230303T220748Z
LAST-MODIFIED:20230520T114946Z
UID:2033-1682150400-1682164800@www.brooklynbridgeskating.com
SUMMARY:Hockey League - registration required
DESCRIPTION:Join our seasonal adult hockey league and play hockey at the iconic roller rink in Brooklyn! Overlook The Brooklyn Bridge and the BEST views of NYC all while playing your favorite sport! \nRegistration is required in advance. For additional information on registration please email our hockey director\, Dave\, at djt7725@verizon.net \nHockey League Fee is $275/season
URL:https://www.brooklynbridgeskating.com/event/hockey-league-registration-required-4/2023-04-22/
LOCATION:Brooklyn Bridge Park – Pier 2\, 150 Furman St\, Pier 2\, Brooklyn\, NY\, 11201\, United States
CATEGORIES:Adult Skates,Family Events,Public Skates
ATTACH;FMTTYPE=image/jpeg:https://www.brooklynbridgeskating.com/wp-content/uploads/2022/07/Roller-Hockey-2022-1200x900-1.jpg
END:VEVENT
BEGIN:VEVENT
DTSTART;TZID=America/Phoenix:20230419T193000
DTEND;TZID=America/Phoenix:20230419T230000
DTSTAMP:20260419T062913
CREATED:20230303T220621Z
LAST-MODIFIED:20230303T220621Z
UID:2012-1681932600-1681945200@www.brooklynbridgeskating.com
SUMMARY:Hockey League - registration required
DESCRIPTION:Join our seasonal adult hockey league and play hockey at the iconic roller rink in Brooklyn! Overlook The Brooklyn Bridge and the BEST views of NYC all while playing your favorite sport! \nRegistration is required in advance. For additional information on registration please email our hockey director\, Dave\, at djt7725@verizon.net \nHockey League Fee is $275/season
URL:https://www.brooklynbridgeskating.com/event/hockey-league-registration-required-3/2023-04-19/
LOCATION:Brooklyn Bridge Park – Pier 2\, 150 Furman St\, Pier 2\, Brooklyn\, NY\, 11201\, United States
CATEGORIES:Adult Skates,Family Events,Public Skates
ATTACH;FMTTYPE=image/jpeg:https://www.brooklynbridgeskating.com/wp-content/uploads/2022/07/Roller-Hockey-2022-1200x900-1.jpg
END:VEVENT
BEGIN:VEVENT
DTSTART;VALUE=DATE:20230406
DTEND;VALUE=DATE:20230418
DTSTAMP:20260419T062913
CREATED:20230322T173154Z
LAST-MODIFIED:20230408T182951Z
UID:2088-1680757200-1681707599@www.brooklynbridgeskating.com
SUMMARY:Spring Break Skating 4/6-4/16
DESCRIPTION:Spring Break Roller Skating is Thursday April 6th 2023 through Sunday\, April 16th 2023. \nWe are OPEN EVERYDAY for Adults\, Kids\, Families & Friends to come skate with us. See our SPECIAL Days and Times list below.\nPlus check our our Special Events that make Roller Skating with us an experience worthy of Instagram. We are featuring events with Public Skates\, Easter Skates\, Free Skates and so much more… \nCLICK HERE for Special Spring Break Schedule
URL:https://www.brooklynbridgeskating.com/event/spring-break-skating-4-6-4-16/
LOCATION:Brooklyn Bridge Park – Pier 2\, 150 Furman St\, Pier 2\, Brooklyn\, NY\, 11201\, United States
CATEGORIES:Adult Skates,Family Events,Public Skates,Special Events
ATTACH;FMTTYPE=image/jpeg:https://www.brooklynbridgeskating.com/wp-content/uploads/2023/03/spring-break-schedule-2023-60-web-only.jpg
END:VEVENT
BEGIN:VEVENT
DTSTART;TZID=America/Phoenix:20220907T100000
DTEND;TZID=America/Phoenix:20220907T190000
DTSTAMP:20260419T062913
CREATED:20220824T152604Z
LAST-MODIFIED:20220824T152604Z
UID:1594-1662544800-1662577200@www.brooklynbridgeskating.com
SUMMARY:Back to School Skate!
DESCRIPTION:$7 admission per person\, $7 skate rental per person \nCome roller skate outside on the beautiful Pier 2 in Brooklyn. Overlooking The Brooklyn Bridge and the BEST views of NYC. \nBirthday Parties are available – experience the best parties everyone will be talking about!
URL:https://www.brooklynbridgeskating.com/event/back-to-school-skate/
LOCATION:Brooklyn Bridge Park – Pier 2\, 150 Furman St\, Pier 2\, Brooklyn\, NY\, 11201\, United States
CATEGORIES:Adult Skates,Family Events,Public Skates
ATTACH;FMTTYPE=image/jpeg:https://www.brooklynbridgeskating.com/wp-content/uploads/2022/08/BTS-Skate-2022-1200x900-1.jpg
END:VEVENT
BEGIN:VEVENT
DTSTART;TZID=America/Phoenix:20220905T100000
DTEND;TZID=America/Phoenix:20220905T150000
DTSTAMP:20260419T062913
CREATED:20220824T152258Z
LAST-MODIFIED:20220824T152258Z
UID:1582-1662372000-1662390000@www.brooklynbridgeskating.com
SUMMARY:Labor Day Skate!
DESCRIPTION:Happy Labor Day! \n$7 admission per person\, $7 skate rental per person \nCome roller skate outside on the beautiful Pier 2 in Brooklyn. Overlooking The Brooklyn Bridge and the BEST views of NYC. \nBirthday Parties are available – experience the best parties everyone will be talking about!
URL:https://www.brooklynbridgeskating.com/event/labor-day-skate/
LOCATION:Brooklyn Bridge Park – Pier 2\, 150 Furman St\, Pier 2\, Brooklyn\, NY\, 11201\, United States
CATEGORIES:Adult Skates,Family Events,Public Skates
ATTACH;FMTTYPE=image/jpeg:https://www.brooklynbridgeskating.com/wp-content/uploads/2022/08/Labor-Day-1200x900-1.jpg
END:VEVENT
BEGIN:VEVENT
DTSTART;TZID=America/Phoenix:20220902T190000
DTEND;TZID=America/Phoenix:20220902T223000
DTSTAMP:20260419T062913
CREATED:20220822T200050Z
LAST-MODIFIED:20220822T200050Z
UID:1512-1662145200-1662157800@www.brooklynbridgeskating.com
SUMMARY:Back to 2000's Skate!
DESCRIPTION:Let’s Roll it Back to the 2000’s!  Enjoy the hits all night long provided by our LIVE DJ! \n$11 admission per person\, $7 skate rental per person \nCome roller skate outside on the beautiful Pier 2 in Brooklyn. Overlooking The Brooklyn Bridge and the BEST views of NYC. \nBirthday Parties are available – experience the best parties everyone will be talking about!
URL:https://www.brooklynbridgeskating.com/event/back-to-2000s-skate/
LOCATION:Brooklyn Bridge Park – Pier 2\, 150 Furman St\, Pier 2\, Brooklyn\, NY\, 11201\, United States
CATEGORIES:Adult Skates,Family Events,Public Skates
ATTACH;FMTTYPE=image/jpeg:https://www.brooklynbridgeskating.com/wp-content/uploads/2022/08/2000s-Skate-2022-1200x900-1.jpg
END:VEVENT
BEGIN:VEVENT
DTSTART;TZID=America/Phoenix:20220826T190000
DTEND;TZID=America/Phoenix:20220826T223000
DTSTAMP:20260419T062913
CREATED:20220822T195130Z
LAST-MODIFIED:20220822T195153Z
UID:1509-1661540400-1661553000@www.brooklynbridgeskating.com
SUMMARY:Legends Skate- Michael Jackson\, Prince & More!
DESCRIPTION:Celebrate the most iconic musicians like Michael Jackson\, Prince\, Whitney Houston & More! Enjoy the hits all night long provided by our LIVE DJ! \n$11 admission per person\, $7 skate rental per person \nCome roller skate outside on the beautiful Pier 2 in Brooklyn. Overlooking The Brooklyn Bridge and the BEST views of NYC. \nBirthday Parties are available – experience the best parties everyone will be talking about!
URL:https://www.brooklynbridgeskating.com/event/legends-skate-michael-jackson-prince-more/
LOCATION:Brooklyn Bridge Park – Pier 2\, 150 Furman St\, Pier 2\, Brooklyn\, NY\, 11201\, United States
CATEGORIES:Adult Skates,Family Events,Public Skates
ATTACH;FMTTYPE=image/jpeg:https://www.brooklynbridgeskating.com/wp-content/uploads/2022/08/Legends-Skate-1200x900-1.jpg
END:VEVENT
END:VCALENDAR