BEGIN:VCALENDAR
VERSION:2.0
PRODID:-//Pier 2 Roller Rink at Brooklyn Bridge Park - ECPv6.15.20//NONSGML v1.0//EN
CALSCALE:GREGORIAN
METHOD:PUBLISH
X-WR-CALNAME:Pier 2 Roller Rink at Brooklyn Bridge Park
X-ORIGINAL-URL:https://www.brooklynbridgeskating.com
X-WR-CALDESC:Events for Pier 2 Roller Rink at Brooklyn Bridge Park
REFRESH-INTERVAL;VALUE=DURATION:PT1H
X-Robots-Tag:noindex
X-PUBLISHED-TTL:PT1H
BEGIN:VTIMEZONE
TZID:America/Phoenix
BEGIN:STANDARD
TZOFFSETFROM:-0700
TZOFFSETTO:-0700
TZNAME:MST
DTSTART:20230101T000000
END:STANDARD
END:VTIMEZONE
BEGIN:VEVENT
DTSTART;TZID=America/Phoenix:20240627T100000
DTEND;TZID=America/Phoenix:20240627T173000
DTSTAMP:20260421T002135
CREATED:20240626T131706Z
LAST-MODIFIED:20240626T133331Z
UID:4033-1719482400-1719509400@www.brooklynbridgeskating.com
SUMMARY:Summer Public Skating
DESCRIPTION:$8 admission per person\, $8 skate rental per person \nCome roller skate outside on the beautiful Pier 2 in Brooklyn. Overlooking The Brooklyn Bridge and the BEST views of NYC. \nBirthday Parties are available – experience the best parties everyone will be talking about!
URL:https://www.brooklynbridgeskating.com/event/summer-public-skating/2024-06-27/
LOCATION:Brooklyn Bridge Park – Pier 2\, 150 Furman St\, Pier 2\, Brooklyn\, NY\, 11201\, United States
CATEGORIES:Family Events,Public Skates
ATTACH;FMTTYPE=image/jpeg:https://www.brooklynbridgeskating.com/wp-content/uploads/2022/07/Summer-Days-Skate-2022-1200x900-1.jpg
END:VEVENT
BEGIN:VEVENT
DTSTART;TZID=America/Phoenix:20240627T190000
DTEND;TZID=America/Phoenix:20240627T220000
DTSTAMP:20260421T002135
CREATED:20240626T132632Z
LAST-MODIFIED:20240626T132709Z
UID:4096-1719514800-1719525600@www.brooklynbridgeskating.com
SUMMARY:Public Skating
DESCRIPTION:$8 admission per person\, $8 skate rental per person \nCome roller skate outside on the beautiful Pier 2 in Brooklyn. Overlooking The Brooklyn Bridge and the BEST views of NYC. \nBirthday Parties are available – experience the best parties everyone will be talking about!
URL:https://www.brooklynbridgeskating.com/event/public-skating-11/2024-06-27/
LOCATION:Brooklyn Bridge Park – Pier 2\, 150 Furman St\, Pier 2\, Brooklyn\, NY\, 11201\, United States
CATEGORIES:Family Events,Public Skates
ATTACH;FMTTYPE=image/jpeg:https://www.brooklynbridgeskating.com/wp-content/uploads/2022/08/800px-Public-Skate-1200x900-v2.jpg
END:VEVENT
END:VCALENDAR