BEGIN:VCALENDAR
VERSION:2.0
PRODID:-//Pier 2 Roller Rink at Brooklyn Bridge Park - ECPv6.15.20//NONSGML v1.0//EN
CALSCALE:GREGORIAN
METHOD:PUBLISH
X-ORIGINAL-URL:https://www.brooklynbridgeskating.com
X-WR-CALDESC:Events for Pier 2 Roller Rink at Brooklyn Bridge Park
REFRESH-INTERVAL;VALUE=DURATION:PT1H
X-Robots-Tag:noindex
X-PUBLISHED-TTL:PT1H
BEGIN:VTIMEZONE
TZID:America/Phoenix
BEGIN:STANDARD
TZOFFSETFROM:-0700
TZOFFSETTO:-0700
TZNAME:MST
DTSTART:20230101T000000
END:STANDARD
END:VTIMEZONE
BEGIN:VEVENT
DTSTART;TZID=America/Phoenix:20240628T100000
DTEND;TZID=America/Phoenix:20240628T150000
DTSTAMP:20260420T230150
CREATED:20240626T131834Z
LAST-MODIFIED:20240626T132803Z
UID:4044-1719568800-1719586800@www.brooklynbridgeskating.com
SUMMARY:Summer Public Skating
DESCRIPTION:$8 admission per person\, $8 skate rental per person \nCome roller skate outside on the beautiful Pier 2 in Brooklyn. Overlooking The Brooklyn Bridge and the BEST views of NYC. \nBirthday Parties are available – experience the best parties everyone will be talking about!
URL:https://www.brooklynbridgeskating.com/event/summer-public-skating-2/2024-06-28/
LOCATION:Brooklyn Bridge Park – Pier 2\, 150 Furman St\, Pier 2\, Brooklyn\, NY\, 11201\, United States
CATEGORIES:Family Events,Public Skates
ATTACH;FMTTYPE=image/jpeg:https://www.brooklynbridgeskating.com/wp-content/uploads/2022/07/Summer-Days-Skate-2022-1200x900-1.jpg
END:VEVENT
BEGIN:VEVENT
DTSTART;TZID=America/Phoenix:20240628T190000
DTEND;TZID=America/Phoenix:20240628T223000
DTSTAMP:20260420T230150
CREATED:20240322T203639Z
LAST-MODIFIED:20240322T203639Z
UID:3681-1719601200-1719613800@www.brooklynbridgeskating.com
SUMMARY:Summer Kickoff Skate
DESCRIPTION:School’s Out for Summer! \nJoin us on Friday from 7:00pm-10:30pm to celebrate the the End of the School Year! Bring your Family Skating to the BEST Family Friendly Skating Rink in Brooklyn! Take in the views and enjoy family friendly fun while skating to today’s top music provided by our LIVE DJ! \nAdmission- $12\nSkate Rental- $8 (if needed)\nSkatemate Rental- $7 (if needed) \n*Please be advised this event is open to all ages\n*No outside food/drinks are permitted\n*We are a FULLY outdoor facility- this event is weather permitting\n*This event is first come\, first serve
URL:https://www.brooklynbridgeskating.com/event/summer-kickoff-skate/
LOCATION:Brooklyn Bridge Park – Pier 2\, 150 Furman St\, Pier 2\, Brooklyn\, NY\, 11201\, United States
CATEGORIES:Family Events,Public Skates,Special Events
ATTACH;FMTTYPE=image/jpeg:https://www.brooklynbridgeskating.com/wp-content/uploads/2023/06/Summer-Kick-Off-2022-1200x1200-1.jpg
END:VEVENT
END:VCALENDAR