BEGIN:VCALENDAR
VERSION:2.0
PRODID:-//Pier 2 Roller Rink at Brooklyn Bridge Park - ECPv6.15.20//NONSGML v1.0//EN
CALSCALE:GREGORIAN
METHOD:PUBLISH
X-WR-CALNAME:Pier 2 Roller Rink at Brooklyn Bridge Park
X-ORIGINAL-URL:https://www.brooklynbridgeskating.com
X-WR-CALDESC:Events for Pier 2 Roller Rink at Brooklyn Bridge Park
REFRESH-INTERVAL;VALUE=DURATION:PT1H
X-Robots-Tag:noindex
X-PUBLISHED-TTL:PT1H
BEGIN:VTIMEZONE
TZID:America/Phoenix
BEGIN:STANDARD
TZOFFSETFROM:-0700
TZOFFSETTO:-0700
TZNAME:MST
DTSTART:20220101T000000
END:STANDARD
END:VTIMEZONE
BEGIN:VEVENT
DTSTART;TZID=America/Phoenix:20230702T120000
DTEND;TZID=America/Phoenix:20230702T160000
DTSTAMP:20260424T125516
CREATED:20230627T221044Z
LAST-MODIFIED:20230706T231911Z
UID:2752-1688299200-1688313600@www.brooklynbridgeskating.com
SUMMARY:Skate with Bluey
DESCRIPTION:Bluey is coming to Brooklyn Bridge Skating!  Join us Sunday\, August 13 for our Skate with Bluey Party from 12-4pm! Be sure to have your camera ready to take a selfie with Bluey!!\n\n\n\nAdmission- $11\nSkate Rental- $8 (if needed)
URL:https://www.brooklynbridgeskating.com/event/skate-with-bluey/2023-07-02/
LOCATION:Brooklyn Bridge Park – Pier 2\, 150 Furman St\, Pier 2\, Brooklyn\, NY\, 11201\, United States
CATEGORIES:Family Events,Public Skates,Special Events
END:VEVENT
END:VCALENDAR