BEGIN:VCALENDAR
VERSION:2.0
PRODID:-//Pier 2 Roller Rink at Brooklyn Bridge Park - ECPv6.15.20//NONSGML v1.0//EN
CALSCALE:GREGORIAN
METHOD:PUBLISH
X-WR-CALNAME:Pier 2 Roller Rink at Brooklyn Bridge Park
X-ORIGINAL-URL:https://www.brooklynbridgeskating.com
X-WR-CALDESC:Events for Pier 2 Roller Rink at Brooklyn Bridge Park
REFRESH-INTERVAL;VALUE=DURATION:PT1H
X-Robots-Tag:noindex
X-PUBLISHED-TTL:PT1H
BEGIN:VTIMEZONE
TZID:America/Phoenix
BEGIN:STANDARD
TZOFFSETFROM:-0700
TZOFFSETTO:-0700
TZNAME:MST
DTSTART:20220101T000000
END:STANDARD
END:VTIMEZONE
BEGIN:VEVENT
DTSTART;TZID=America/Phoenix:20231001T121500
DTEND;TZID=America/Phoenix:20231001T160000
DTSTAMP:20260419T060153
CREATED:20230831T162157Z
LAST-MODIFIED:20230831T162157Z
UID:3047-1696162500-1696176000@www.brooklynbridgeskating.com
SUMMARY:Skate with Bluey
DESCRIPTION:Come meet Bluey one last time at Brooklyn Bridge Skating! \nHe will be visiting from 12:15-4pm \nAdmission is $11 Skate Rental is $8
URL:https://www.brooklynbridgeskating.com/event/skate-with-bluey-2/
LOCATION:Brooklyn Bridge Park – Pier 2\, 150 Furman St\, Pier 2\, Brooklyn\, NY\, 11201\, United States
CATEGORIES:Family Events,Public Skates,Special Events
END:VEVENT
END:VCALENDAR