BEGIN:VCALENDAR
VERSION:2.0
PRODID:-//Pier 2 Roller Rink at Brooklyn Bridge Park - ECPv6.15.20//NONSGML v1.0//EN
CALSCALE:GREGORIAN
METHOD:PUBLISH
X-ORIGINAL-URL:https://www.brooklynbridgeskating.com
X-WR-CALDESC:Events for Pier 2 Roller Rink at Brooklyn Bridge Park
REFRESH-INTERVAL;VALUE=DURATION:PT1H
X-Robots-Tag:noindex
X-PUBLISHED-TTL:PT1H
BEGIN:VTIMEZONE
TZID:America/Phoenix
BEGIN:STANDARD
TZOFFSETFROM:-0700
TZOFFSETTO:-0700
TZNAME:MST
DTSTART:20230101T000000
END:STANDARD
END:VTIMEZONE
BEGIN:VEVENT
DTSTART;TZID=America/Phoenix:20241012T123000
DTEND;TZID=America/Phoenix:20241012T150000
DTSTAMP:20260419T231541
CREATED:20240815T142628Z
LAST-MODIFIED:20240815T142628Z
UID:4343-1728736200-1728745200@www.brooklynbridgeskating.com
SUMMARY:Mickey's Halloween Kick Off Party
DESCRIPTION:Come kick off the Halloween season with Mickey Mouse at this spooktacular event! \nWear your costume and come skate around the rink! \nAdmission is $12 \nSkate Rental is $8
URL:https://www.brooklynbridgeskating.com/event/mickeys-halloween-kick-off-party/
LOCATION:Brooklyn Bridge Park – Pier 2\, 150 Furman St\, Pier 2\, Brooklyn\, NY\, 11201\, United States
CATEGORIES:Special Events
ATTACH;FMTTYPE=image/jpeg:https://www.brooklynbridgeskating.com/wp-content/uploads/2024/08/Mickey-Halloween-Party-2024.jpg
END:VEVENT
END:VCALENDAR